BEGIN:VCALENDAR
VERSION:2.0
PRODID:-//ExpressionEngine Easy iCalendar plugin//NONSGML v1.1.1//EN
BEGIN:VEVENT
UID:event
LOCATION:The Heyman Center\, Second Floor Common Room
DTSTAMP:20210221T33400Z
DTSTART;TZID=America/New_York:20140425T90000
DTEND;TZID=America/New_York:20140426T000000
SUMMARY:The Society of Fellows in the Humanities presents “Calcula
 ting Capitalism”
DESCRIPTION:Among the most striking trends charted in the humanities in 
 recent years has been the remarkable investment made in tryi
 ng to understand modern capitalism. This conference seeks to
  profit from that boom by bringing together a range of schol
 ars from the various disciplines that have developed novel m
 ethods for studying economic life: history\, sociology\, anthr
 opology\, science and technology studies\, literary studies\, a
 s well as economics\, accounting\, and business studies.\n\nPlea
 se note: Seating is limited for this event.
END:VEVENT
END:VCALENDAR