BEGIN:VCALENDAR
VERSION:2.0
PRODID:-//ExpressionEngine Easy iCalendar plugin//NONSGML v1.1.1//EN
BEGIN:VEVENT
UID:event
LOCATION:The Schapiro Center\, Davis Auditorium
DTSTAMP:20210221T33100Z
DTSTART;TZID=America/New_York:20140429T181500
DTEND;TZID=America/New_York:
SUMMARY:An Evening with Poet and Novelist Michael Ondaatje
DESCRIPTION:As part of the Writing Lives Series\, the Heyman Center for t
 he Humanities presents an evening with poet and novelist Mic
 hael Ondaatje—author of the Booker Prize winning The Engli
 sh Patient. Ondaatje will read from his work and a Q&A will 
 follow.\n\nMichael Ondaatje will be in conversation with Saski
 a Hamilton\, Professor of English at Barnard College\, and C.D
 . Wright\, I.J. Kapstein Professor of Literary Arts at Brown
  University.\n\nSonali Deraniyagala\, Author of Wave and Adjun
 ct Associate Professor in the School of International and Pu
 blic Affairs at Columbia\, will provide an introduction.\n\nPle
 ase note: Seating is limited for this event.
END:VEVENT
END:VCALENDAR