BEGIN:VCALENDAR
VERSION:2.0
PRODID:-//ExpressionEngine Easy iCalendar plugin//NONSGML v1.1.1//EN
BEGIN:VEVENT
UID:event
LOCATION:The Heyman Center\, Second Floor Common Room
DTSTAMP:20210221T33400Z
DTSTART;TZID=America/New_York:20140404T90000
DTEND;TZID=America/New_York:20140405T000000
SUMMARY:History and Psychoanalysis During the Postwar Period
DESCRIPTION:Organized by Prof. Michal Shapira\, Tel Aviv University\, and 
 cosponsored by the New York Area Consortium for Intellectual
  and Cultural History.\n\nDespite the continuous interest in p
 sychoanalysis as a modern system of thought and interpretati
 on\, the history of the discipline and the study of analysts 
 other than Sigmund Freud are still developing. This two-day 
 conference will bring together historians\, gender studies sc
 holars\, and psychoanalysts to explore the impact of the Seco
 nd World War on psychoanalysis in the post-1945 era and of p
 sychoanalysis itself on different postwar societies and cult
 ures.\n\nFull schedule at document link.
END:VEVENT
END:VCALENDAR