BEGIN:VCALENDAR
VERSION:2.0
PRODID:-//ExpressionEngine Easy iCalendar plugin//NONSGML v1.1.1//EN
BEGIN:VEVENT
UID:event
LOCATION:The Heyman Center\, Second Floor Common Room
DTSTAMP:20210221T33400Z
DTSTART;TZID=America/New_York:20140516T124500
DTEND;TZID=America/New_York:20140516T181500
SUMMARY:Malinowski’s Children: East Central European “Betweennes
 s” and Twentieth-Century Social Science
DESCRIPTION:This one-day workshop positions Eastern and Central Europe a
 s a critical field for global modern knowledge by looking at
  the “betweenness” of East Central European intellectual
 s and their contributions to the history of social science i
 n the twentieth century. \n\nWorkshop with pre-circulated pap
 ers.\n\nRegistration required by Monday\, May 12\, email sm3373@
 columbia.edu.\n\n 
END:VEVENT
END:VCALENDAR