BEGIN:VCALENDAR
VERSION:2.0
PRODID:-//ExpressionEngine Easy iCalendar plugin//NONSGML v1.1.1//EN
BEGIN:VEVENT
UID:event
LOCATION:International Affairs Building\, Altschul Auditorium
DTSTAMP:20210221T33100Z
DTSTART;TZID=America/New_York:20140407T191500
DTEND;TZID=America/New_York:
SUMMARY:An Evening with Author Junot Díaz
DESCRIPTION:As part of The Writing Lives Series at the Heyman Center for
  the Humanities and the Center for the Study of Ethnicity an
 d Race's Artist at the Center Series\, author Junot Díaz wil
 l read from his work and discuss his writing. Díaz will be 
 in discussion with Alondra Nelson\, Professor of Sociology at
  Columbia\, and Frances Negrón-Muntaner\, Associate Professor
  of English and Comparative Literature at Columbia.\n\nNote: D
 ue to the large crowd expected at this event\, please arrive 
 early. The event space holds 400 people. We cannot exceed th
 e room capacity for safety reasons and cannot let in any att
 endees over 400. Thank you for your understanding.
END:VEVENT
END:VCALENDAR