BEGIN:VCALENDAR
VERSION:2.0
PRODID:-//ExpressionEngine Easy iCalendar plugin//NONSGML v1.1.1//EN
BEGIN:VEVENT
UID:event
LOCATION:The Schapiro Center\, Davis Auditorium
DTSTAMP:20210221T33100Z
DTSTART;TZID=America/New_York:20140204T181500
DTEND;TZID=America/New_York:
SUMMARY:Reference Works: Poetry Reading and Talk
DESCRIPTION:Poets talk about the scholarly resources that inspire them\, 
 including poetry anthologies\, rhyming dictionaries\, standard
  dictionaries\, handbooks of poetic forms\, and other resource
 s\, such as the Princeton Encyclopedia of Poetry and Poetics 
 (the latest edition of which was published in 2013).\n\nCo-spo
 nsored by Public Books.
END:VEVENT
END:VCALENDAR