BEGIN:VCALENDAR
VERSION:2.0
PRODID:-//ExpressionEngine Easy iCalendar plugin//NONSGML v1.1.1//EN
BEGIN:VEVENT
UID:event
LOCATION:Peter Jay Sharp Building\, BAM Howard Gilman Opera House
DTSTAMP:20210221T33100Z
DTSTART;TZID=America/New_York:20140118T193000
DTEND;TZID=America/New_York:
SUMMARY:Art Spiegelman and Phillip Johnston: WORDLESS!
DESCRIPTION:Writer\, artist\, and New York City Fellow at the Heyman Cente
 r (2007) Art Spiegelman presents an innovative hybrid of sli
 des\, talk\, and musical performance created in collaboration 
 with acclaimed jazz composer Phillip Johnston.\n\nFor more inf
 ormation and tickets\, visit the BAM events page.
END:VEVENT
END:VCALENDAR