BEGIN:VCALENDAR
VERSION:2.0
PRODID:-//ExpressionEngine Easy iCalendar plugin//NONSGML v1.1.1//EN
BEGIN:VEVENT
UID:event
LOCATION:420 Hamilton Hall
DTSTAMP:20210221T32900Z
DTSTART;TZID=America/New_York:20140210T180000
DTEND;TZID=America/New_York:
SUMMARY:Local/Express: Asian American Arts and Community in 90s NYC
DESCRIPTION:The anthology Local/Express considers what was changing\, how
 \, and why in the ‘90s in NYC. The title features seminal w
 ork from the ‘90s paired with new reflections about the co
 nfluence of arts\, activism\, and community and the legacies o
 f this cultural moment. Come join us as we celebrate the rel
 ease of this exciting new anthology from the publishers of t
 he Asian American Literary Review. The evening will include 
 readings by contributors Marie G. Lee\, Sung Rno\, Monique Tru
 ong\, and Swati Marquez and Chin. Hosted by co-editor Terry H
 ong. 
END:VEVENT
END:VCALENDAR