BEGIN:VCALENDAR
VERSION:2.0
PRODID:-//ExpressionEngine Easy iCalendar plugin//NONSGML v1.1.1//EN
BEGIN:VEVENT
UID:event
LOCATION:\, East Gallery\, Buell Hall
DTSTAMP:20210221T32900Z
DTSTART;TZID=America/New_York:20140417T130000
DTEND;TZID=America/New_York:20140417T183000
SUMMARY:Visualizing Universalism: The UNESCO Human Rights Exhibition
 \, 1949-1953
DESCRIPTION:The Visualizing Universalism symposium coincides with the op
 ening of a new exhibition at Columbia University’s the Art
 hur Ross Architecture Gallery\, Buell Hall publicly displayin
 g the original UNESCO Human Rights Exhibition and its archiv
 e for the first time in sixty years. UNESCO’s Human Rights
  Exhibition from 1949 was the first international event that
  sought to visually represent the history and meaning of the
  then-recently adopted Universal Declaration of Human Rights
 .
END:VEVENT
END:VCALENDAR