BEGIN:VCALENDAR
VERSION:2.0
PRODID:-//ExpressionEngine Easy iCalendar plugin//NONSGML v1.1.1//EN
BEGIN:VEVENT
UID:event
LOCATION:The Heyman Center\, Second Floor Common Room
DTSTAMP:20210221T32800Z
DTSTART;TZID=America/New_York:20140212T181500
DTEND;TZID=America/New_York:
SUMMARY:Neuroscience and History: After Neurochemistry
DESCRIPTION:Around the year 2000\, a massive conceptual mutation occurred
  in the neuronal sciences. After the brain had been a chemic
 al\, synaptic organ for almost half a century\, a new way of t
 hinking and knowing the nervous system emerged –– a biol
 ogical and cellular way that Tobias Rees would like to call 
 “after neurochemistry.”\n\n 
END:VEVENT
END:VCALENDAR