BEGIN:VCALENDAR
VERSION:2.0
PRODID:-//ExpressionEngine Easy iCalendar plugin//NONSGML v1.1.1//EN
BEGIN:VEVENT
UID:event
LOCATION:The Heyman Center\, Second Floor Common Room
DTSTAMP:20210221T33500Z
DTSTART;TZID=America/New_York:20140507T190000
DTEND;TZID=America/New_York:
SUMMARY:Neuroscience and History: The Science of Pain and Pleasure: 
 What Can We Learn from its History?
DESCRIPTION:Hedonistic psychology – the attribution of human motivatio
 n to aversion to pain and attraction to pleasure – has a l
 ong history\, stretching from Thomas Hobbes to B. F. Skinner\,
  and beyond. Starting from contemporary investigations of th
 e psychology of appetite\, addiction\, and reward\, this talk w
 ill ask what we might learn from the history of the science 
 of pain and pleasure. 
END:VEVENT
END:VCALENDAR