BEGIN:VCALENDAR
VERSION:2.0
PRODID:-//ExpressionEngine Easy iCalendar plugin//NONSGML v1.1.1//EN
BEGIN:VEVENT
UID:event
LOCATION:The Heyman Center\, Second Floor Common Room
DTSTAMP:20210221T32700Z
DTSTART;TZID=America/New_York:20140304T121500
DTEND;TZID=America/New_York:20140304T140000
SUMMARY:Faculty and Graduate Student Workshop with Toril Moi
DESCRIPTION:As a follow-up to the Lionel Trilling Seminar\, Toril Moi off
 ers a faculty and student workshop at the Heyman Center.\n\nOp
 en to all faculty and students at Columbia University.
END:VEVENT
END:VCALENDAR