BEGIN:VCALENDAR
VERSION:2.0
PRODID:-//ExpressionEngine Easy iCalendar plugin//NONSGML v1.1.1//EN
BEGIN:VEVENT
UID:event
LOCATION:The Heyman Center\, Second Floor Common Room
DTSTAMP:20210221T33200Z
DTSTART;TZID=America/New_York:20140422T160000
DTEND;TZID=America/New_York:20140422T180000
SUMMARY:The Society of Fellows in the Humanities presents “The Tol
 eration of Tolerations”
DESCRIPTION:Toleration involves many paradoxes. One we might call the pa
 radox of uniformity: while the point of toleration is divers
 ity\, every particular theory of toleration--and the institut
 ional regime of toleration that embodies or expresses it--li
 kely rests on a vision of political life or human existence 
 that is more consistent with some belief systems than with o
 thers. \n\nTo request papers to read in advance of the event\,
  please email William Lowrance at wcl2111@columbia.edu.
END:VEVENT
END:VCALENDAR