BEGIN:VCALENDAR
VERSION:2.0
PRODID:-//ExpressionEngine Easy iCalendar plugin//NONSGML v1.1.1//EN
BEGIN:VEVENT
UID:event
LOCATION:The Italian Academy for Advanced Studies
DTSTAMP:20210221T33600Z
DTSTART;TZID=America/New_York:20140311T173000
DTEND;TZID=America/New_York:20140312T000000
SUMMARY:An Inconsolable Memory: Films of Aryan Kaganof
DESCRIPTION:South African independent filmmaker Aryan Kaganof will prese
 nt and discuss his selected films\, most of which have never 
 been seen in the United States. He will be joined in discuss
 ion by Richard Peña\, Professor of Professional Practice in 
 Film at School of the Arts at Columbia\; Hlonipha Mokoena\, As
 sociate Professor of Anthropology at Columbia\; Sean Jacobs\; 
 Assistant Professor of International Affairs at The New Scho
 ol\; and Anna Grimshaw\, professor of Anthropology at Emory Un
 iversity.
END:VEVENT
END:VCALENDAR