BEGIN:VCALENDAR
VERSION:2.0
PRODID:-//ExpressionEngine Easy iCalendar plugin//NONSGML v1.1.1//EN
BEGIN:VEVENT
UID:event
LOCATION:The Heyman Center\, Second Floor Common Room
DTSTAMP:20210221T32900Z
DTSTART;TZID=America/New_York:20140424T181500
DTEND;TZID=America/New_York:
SUMMARY:Jacob Soll on “The Reckoning: Financial Accountability and
  the Rise and Fall of Nations”
DESCRIPTION:Good bookkeeping makes for good government—but not for ver
 y long—according to this history of accounting in the publ
 ic sphere.\n\nPlease note: Seating is limited for this event.
END:VEVENT
END:VCALENDAR