BEGIN:VCALENDAR
VERSION:2.0
PRODID:-//ExpressionEngine Easy iCalendar plugin//NONSGML v1.1.1//EN
BEGIN:VEVENT
UID:event
LOCATION:\, CUNY Graduate Center\, Skylight Room and Faculty House\, Col
 umbia University
DTSTAMP:20210221T33800Z
DTSTART;TZID=America/New_York:20140227T90000
DTEND;TZID=America/New_York:20140228T000000
SUMMARY:Sounding Communities: Music and the Three Religions in Medie
 val Iberia
DESCRIPTION:Poetry\, song\, and other forms of performance in Arabic\, Lati
 n\, Hebrew\, and Romance are central sources for the cultural 
 and social history of medieval Iberia. This international co
 nference brings together scholars of music\, literature\, and 
 history to reflect on the insights that the sounding arts an
 d their context can offer into Iberian communities and the i
 nteractions among them.
END:VEVENT
END:VCALENDAR