BEGIN:VCALENDAR
VERSION:2.0
PRODID:-//ExpressionEngine Easy iCalendar plugin//NONSGML v1.1.1//EN
BEGIN:VEVENT
UID:event
LOCATION:Miller Theatre
DTSTAMP:20210221T33600Z
DTSTART;TZID=America/New_York:20140228T200000
DTEND;TZID=America/New_York:20140228T223000
SUMMARY:Shujaat Khan and Samir Chatterjee in Concert
DESCRIPTION:Columbia University welcomes back leading sitar player\, Shuj
 aat Husein Khan\, and virtuoso tabla player\, Samir Chatterjee
 \, for a concert at Miller Theatre.
END:VEVENT
END:VCALENDAR