BEGIN:VCALENDAR
VERSION:2.0
PRODID:-//ExpressionEngine Easy iCalendar plugin//NONSGML v1.1.1//EN
BEGIN:VEVENT
UID:event
LOCATION:The Heyman Center\, Second Floor Common Room
DTSTAMP:20210221T33200Z
DTSTART;TZID=America/New_York:20140224T181500
DTEND;TZID=America/New_York:
SUMMARY:What Causes Global Inequality?
DESCRIPTION:Global inequality remains a deep and abiding issue for our t
 imes\, even despite the emergence of countries of the south s
 uch as China\, India\, Brazil\, etc. Indeed many have argued th
 at form of emergence leaves inequalities as deep as ever eve
 n in those countries\, creating only a larger metropolitan mi
 ddle class.
END:VEVENT
END:VCALENDAR