BEGIN:VCALENDAR
VERSION:2.0
PRODID:-//ExpressionEngine Easy iCalendar plugin//NONSGML v1.1.1//EN
BEGIN:VEVENT
UID:event
LOCATION:The Heyman Center\, Second Floor Common Room
DTSTAMP:20210221T33000Z
DTSTART;TZID=America/New_York:20140314T120000
DTEND;TZID=America/New_York:20140314T140000
SUMMARY:The Society of Fellows in the Humanities Presents “A Criti
 cal Dialogue on Media and Materiality”
DESCRIPTION:This Society of Fellows talk\, organized by Brian Goldstone a
 nd Grant Wythoff\, addresses the topic of materiality in a di
 scussion between Bernhard Siegert\, Gerd Bucerius Professor o
 f History and Theory of Cultural Techniques\, Bauhaus-Univers
 ity Weimar\, and Ben Kafka\, Associate Professor\, Departments 
 of Media\, Culture\, and Communication and History at New York
  University.
END:VEVENT
END:VCALENDAR