BEGIN:VCALENDAR
VERSION:2.0
PRODID:-//ExpressionEngine Easy iCalendar plugin//NONSGML v1.1.1//EN
BEGIN:VEVENT
UID:event
LOCATION:501 Dodge Hall
DTSTAMP:20210221T33700Z
DTSTART;TZID=America/New_York:20140403T190000
DTEND;TZID=America/New_York:
SUMMARY:An Evening with Poet Jorie Graham
DESCRIPTION:The Graduate Writing Program at the School of the Arts and t
 he Heyman Center for the Humanities welcome award-winning po
 et Jorie Graham.\n\n \n\n 
END:VEVENT
END:VCALENDAR