BEGIN:VCALENDAR
VERSION:2.0
PRODID:-//ExpressionEngine Easy iCalendar plugin//NONSGML v1.1.1//EN
BEGIN:VEVENT
UID:event
LOCATION:Three Lives & Company Bookstore
DTSTAMP:20210221T33100Z
DTSTART;TZID=America/New_York:20140501T190000
DTEND;TZID=America/New_York:
SUMMARY:Ruth Ozeki in Conversation with Ellis Avery
DESCRIPTION:Ruth Ozeki\, author of A Tale for the Time Being\, will be in 
 conversation with Ellis Avery\, Author of The Teahouse Fire a
 nd The Last Nude.\n\nSharon Marcus\, Editor in Chief of Public
  Books and Orlando Harriman Professor of English and Compar
 ative Literature at Columbia University\, will moderate the c
 onversation.
END:VEVENT
END:VCALENDAR