BEGIN:VCALENDAR
VERSION:2.0
PRODID:-//ExpressionEngine Easy iCalendar plugin//NONSGML v1.1.1//EN
BEGIN:VEVENT
UID:event
LOCATION:The Heyman Center\, Second Floor Common Room
DTSTAMP:20210221T32700Z
DTSTART;TZID=America/New_York:20140501T121500
DTEND;TZID=America/New_York:
SUMMARY:Philosophy as a Public Humanity
DESCRIPTION:Max Hayward\, Public Humanities Fellow at the Heyman Center f
 or the Humanities\, will present a discussion on the concepti
 on and implementation of Rethink\, a philosophy community out
 reach program that runs philosophical talks with court-invol
 ved youth in Harlem.
END:VEVENT
END:VCALENDAR