BEGIN:VCALENDAR
VERSION:2.0
PRODID:-//ExpressionEngine Easy iCalendar plugin//NONSGML v1.1.1//EN
BEGIN:VEVENT
UID:event
LOCATION:The Heyman Center\, Second Floor Common Room
DTSTAMP:20210221T33700Z
DTSTART;TZID=America/New_York:20140505T203000
DTEND;TZID=America/New_York:
SUMMARY:An Evening of Poetry and Performance: Rodrigo Toscano\, Julie
  Patton\, and Brad Jones
DESCRIPTION:Join us at the Heyman Center for an Evening of Poetry and Pe
 rformance with poet Rodrigo Toscano\, poet and visual artist 
 Julie Patton\, and bassist and composer Brad Jones.
END:VEVENT
END:VCALENDAR