BEGIN:VCALENDAR
VERSION:2.0
PRODID:-//ExpressionEngine Easy iCalendar plugin//NONSGML v1.1.1//EN
BEGIN:VEVENT
UID:event
LOCATION:The Heyman Center\, Second Floor Common Room
DTSTAMP:20210221T33300Z
DTSTART;TZID=America/New_York:20141002T181500
DTEND;TZID=America/New_York:
SUMMARY:Liberalism and Its Critics
DESCRIPTION:In his recent book The Revolt Against the Masses\, Fred Sie
 gel indicts modern American liberalism for elitism toward or
 dinary Americans\, their values and culture\, and blames liber
 als for many of the problems plaguing American Society today
 . Taking off from Siegel's book\, the panelists will respond 
 to his critique\, discuss liberalism's history\, and evaluate 
 its future prospects.\n\n 
END:VEVENT
END:VCALENDAR