BEGIN:VCALENDAR
VERSION:2.0
PRODID:-//ExpressionEngine Easy iCalendar plugin//NONSGML v1.1.1//EN
BEGIN:VEVENT
UID:event
LOCATION:The Italian Academy for Advanced Studies
DTSTAMP:20210221T33700Z
DTSTART;TZID=America/New_York:20141202T181500
DTEND;TZID=America/New_York:
SUMMARY:Old Masters: Art Spiegelman\, Jules Feiffer\, Alex Melamid
DESCRIPTION:Legendary artists and authors Jules Feiffer\, Art Spiegelman\,
  and Alex Melamid will discuss the history and achievements 
 of aging artists\, with a focus on artists whose best-known w
 orks were completed in the later years of their lives. The d
 iscussion will use as its starting point what renown critic 
 Barbara Herrnstein Smith called “the senile sublime.”\n\nT
 his event is at capacity and we are no longer accepting regi
 stration. Doors will open at 5:15 p.m. and registered guests
  will be seated on a first-come\, first-served basis. Please 
 bring your printed Eventbrite ticket to show at the door of 
 the event. \n\nAt 6:15 pm\, any available seats will be filled 
 by waitlist attendees. The event will be Livestreamed at th
 e Italian Academy event page.\n\nArt Spiegelman will be back w
 ith us in the spring for WORDLESS! with composer Phillip Joh
 nston. Tickets on sale now at Miller Theatre box office for 
 the March 13 event!
END:VEVENT
END:VCALENDAR