BEGIN:VCALENDAR
VERSION:2.0
PRODID:-//ExpressionEngine Easy iCalendar plugin//NONSGML v1.1.1//EN
BEGIN:VEVENT
UID:event
LOCATION:The Schapiro Center\, Davis Auditorium
DTSTAMP:20210221T33600Z
DTSTART;TZID=America/New_York:20141016T181500
DTEND;TZID=America/New_York:
SUMMARY:Dan Hoyle’s “Each and Every Thing”
DESCRIPTION:"Each and Every Thing" is the newest solo show from award-wi
 nning actor/playwright Dan Hoyle about how we experience the
  world in the digital age. From a showdown with a violent f
 elon in small-town Nebraska\, to a childhood listening to ant
 i-conformist rants in San Francisco\; from the hard-scrabble 
 corner boys of Chicago to the intellectual temple of Calcutt
 a’s famed coffeehouse\; from a Digital Detox retreat in rem
 ote Northern California to an intimate confession in Manhatt
 an\, join Dan in his search for true community\, spontaneity a
 nd wonder in our fractured and hyper-connected world.
END:VEVENT
END:VCALENDAR