BEGIN:VCALENDAR
VERSION:2.0
PRODID:-//ExpressionEngine Easy iCalendar plugin//NONSGML v1.1.1//EN
BEGIN:VEVENT
UID:event
LOCATION:Butler Library\, The Studio@Butler
DTSTAMP:20210221T32700Z
DTSTART;TZID=America/New_York:20141002T190000
DTEND;TZID=America/New_York:
SUMMARY:Trans-Atlantic Celebrity: H.G. Wells\, Elinor Glyn\, and Sarah
  Bernhardt
DESCRIPTION:In this talk\, Columbia Professors Sarah Cole\, Hilary Hallett
 \, and Sharon Marcus will discuss three 19th-century European
  artists whose work had a large influence on literature and 
 film in the Belle Époque.\n\nAttendees who are not Columbia U
 niversity faculty or students must RSVP by September 29 at s
 p2216@columbia.edu.
END:VEVENT
END:VCALENDAR