BEGIN:VCALENDAR
VERSION:2.0
PRODID:-//ExpressionEngine Easy iCalendar plugin//NONSGML v1.1.1//EN
BEGIN:VEVENT
UID:event
LOCATION:Butler Library\, Room 523\, Butler Library
DTSTAMP:20210221T32800Z
DTSTART;TZID=America/New_York:20141006T183000
DTEND;TZID=America/New_York:
SUMMARY:FIERCE: The Work and Life of Manuel Ramos Otero
DESCRIPTION:On the occasion of the Columbia University Libraries Acquisi
 tion of the Archives of Manuel Ramos Otero\, Columbia hosts a
  discussion of the writer's work with Arnaldo Cruz-MalavÃ©\,Â
  Professor of Spanish and Comparative Literature at Fordham 
 University\; author Magali Garcia Ramis\; author Luis NegrÃ³n\;
  and Frances NegrÃ³n-Muntaner\,Â Associate Professor of Engli
 sh and Comparative Literature and Director of the Center for
  the Study of Ethnicity and Race at Columbia University.
END:VEVENT
END:VCALENDAR