BEGIN:VCALENDAR
VERSION:2.0
PRODID:-//ExpressionEngine Easy iCalendar plugin//NONSGML v1.1.1//EN
BEGIN:VEVENT
UID:event
LOCATION:Butler Library\, Room 203
DTSTAMP:20210221T33200Z
DTSTART;TZID=America/New_York:20141007T180000
DTEND;TZID=America/New_York:
SUMMARY:Exhibition: Comics at Columbia: Past\, Present\, Future
DESCRIPTION:The exhibition "Comics at Columbia: Past\, Present\, Future" p
 resents art\, manuscripts\, and ephemera from Columbia's Rare 
 Book & Manuscript Library\, including items associated with t
 he university's history. The exhibition opening night on Oc
 tober 7 will include presentations by influential comics fig
 ureheads\, celebratory reception\, and viewing of the exhibiti
 on. The exhibition will be on display through January 23\, 2
 015.
END:VEVENT
END:VCALENDAR