BEGIN:VCALENDAR
VERSION:2.0
PRODID:-//ExpressionEngine Easy iCalendar plugin//NONSGML v1.1.1//EN
BEGIN:VEVENT
UID:event
LOCATION:\, East Gallery\, Buell Hall (Maison Francaise)
DTSTAMP:20210221T33500Z
DTSTART;TZID=America/New_York:20140912T94500
DTEND;TZID=America/New_York:20140912T173000
SUMMARY:The Future of French and Francophone Studies: The Status of 
 Literature
DESCRIPTION:The “future of the study of French” has a long past. Sin
 ce the creation of language departments in American Universi
 ties at the end of the nineteenth century\, the importance of
  the field has had to be reaffirmed at crucial junctures.
END:VEVENT
END:VCALENDAR