BEGIN:VCALENDAR
VERSION:2.0
PRODID:-//ExpressionEngine Easy iCalendar plugin//NONSGML v1.1.1//EN
BEGIN:VEVENT
UID:event
LOCATION:The Heyman Center\, Second Floor Common Room
DTSTAMP:20210221T32800Z
DTSTART;TZID=America/New_York:20141027T181500
DTEND;TZID=America/New_York:
SUMMARY:The Society of Fellows in the Humanities Presents “The Pot
 ency of Indigenous Bibles and Biographies”
DESCRIPTION:Mapuche oral shamanic biographies and performances—some of
  which take the form of “Bibles” and shamanic literacies
 —play a central role in the production of indigenous histo
 ry in southern Chile. Professor Bacigalupo explains how and 
 why a mixed-race Mapuche shaman charged her to write about t
 he shaman's life and practice in the form of a “Bible.”
END:VEVENT
END:VCALENDAR