BEGIN:VCALENDAR
VERSION:2.0
PRODID:-//ExpressionEngine Easy iCalendar plugin//NONSGML v1.1.1//EN
BEGIN:VEVENT
UID:event
LOCATION:The Schapiro Center\, Davis Auditorium
DTSTAMP:20210221T33100Z
DTSTART;TZID=America/New_York:20141119T181500
DTEND;TZID=America/New_York:
SUMMARY:Reading Penelope Fitzgerald with Hermione Lee\, Ellis Avery\, 
 Margot Livesey & Alexander Chee
DESCRIPTION:Please join Hermione Lee\, the acclaimed biographer of Edith 
 Wharton and Virginia Woolf\, and award-winning novelists Elli
 s Avery\, Alexander Chee\, and Margot Livesey\, in celebrating 
 the life and writing of Penelope Fitzgerald at an event that
  showcases Lee's masterful new biography\, Penelope Fitzgeral
 d: A Life.
END:VEVENT
END:VCALENDAR