BEGIN:VCALENDAR
VERSION:2.0
PRODID:-//ExpressionEngine Easy iCalendar plugin//NONSGML v1.1.1//EN
BEGIN:VEVENT
UID:event
LOCATION:\, East Gallery\, Buell Hall (Maison Francaise)
DTSTAMP:20210221T32600Z
DTSTART;TZID=America/New_York:20141113T140000
DTEND;TZID=America/New_York:20141114T000000
SUMMARY:Thinking with Balibar
DESCRIPTION:This conference on “Thinking with Balibar” will explore 
 the influence of Etienne Balibar's work\, not paying tribute 
 to Étienne Balibar per se\, but showing how certain concepts
 \, arguments\, and methods that he applies in his work can be 
 and are being used by scholars in different fields working o
 n crucial issues of our time.
END:VEVENT
END:VCALENDAR