BEGIN:VCALENDAR
VERSION:2.0
PRODID:-//ExpressionEngine Easy iCalendar plugin//NONSGML v1.1.1//EN
BEGIN:VEVENT
UID:event
LOCATION:East Gallery\, Buell Hall (Maison Francaise)
DTSTAMP:20210221T32800Z
DTSTART;TZID=America/New_York:20141001T180000
DTEND;TZID=America/New_York:
SUMMARY:“L’Encre des savants” - Souleymane Bachir Diagne\, in d
 ialogue with Vincent Debaene
DESCRIPTION:Professor Bachir Diagne discusses his latest book\, L’encre
  des savants (The Ink of the Scholars). The book examines Af
 rican philosophy and the rich literature it has produced\, wh
 ich is presented and discussed through four major questions:
  ontology and African art\, orality and literacy\, the concept
  of time\, and African socialisms and human rights.
END:VEVENT
END:VCALENDAR