BEGIN:VCALENDAR
VERSION:2.0
PRODID:-//ExpressionEngine Easy iCalendar plugin//NONSGML v1.1.1//EN
BEGIN:VEVENT
UID:event
LOCATION:The Schapiro Center\, Davis Auditorium
DTSTAMP:20210221T33000Z
DTSTART;TZID=America/New_York:20141022T181500
DTEND;TZID=America/New_York:
SUMMARY:Judging Science: The Historian\, the Courts\, & Discerning Res
 ponsibility for Environmental Pollution
DESCRIPTION:Over the past twenty years a vast public negotiation has tak
 en place over the causes of\, and responsibility for\, disease
 . For the most part this discussion has flown under the rada
 r of doctors\, historians and public health professionals. To
  the extent they have participated\, professionals and schola
 rs have been called in as "experts\," as witnesses\, to be eit
 her listened to\, or rejected\, by juries and judges.
END:VEVENT
END:VCALENDAR