BEGIN:VCALENDAR
VERSION:2.0
PRODID:-//ExpressionEngine Easy iCalendar plugin//NONSGML v1.1.1//EN
BEGIN:VEVENT
UID:event
LOCATION:The Heyman Center\, Second Floor Common Room
DTSTAMP:20210221T33800Z
DTSTART;TZID=America/New_York:20141107T93000
DTEND;TZID=America/New_York:20141107T173000
SUMMARY:Rewriting English: Gauri Viswanathan’s Masks of Conquest a
 t Twenty-Five
DESCRIPTION:The Heyman Center hosts an all-day conference celebrating th
 e twenty-fifth anniversary of Gauri Viswanathan's Masks of C
 onquest: Literary Study and British Rule in India. Viswanat
 han’s book changed the way we think about English Literatu
 re as a "discipline" -- both educational and colonial.
END:VEVENT
END:VCALENDAR