BEGIN:VCALENDAR
VERSION:2.0
PRODID:-//ExpressionEngine Easy iCalendar plugin//NONSGML v1.1.1//EN
BEGIN:VEVENT
UID:event
LOCATION:Room 501\, Dodge Hall
DTSTAMP:20210221T32800Z
DTSTART;TZID=America/New_York:20141008T190000
DTEND;TZID=America/New_York:
SUMMARY:Creative Writing Lecture Series: Karen Russell
DESCRIPTION:Author and School of the Arts alumna Karen Russell will disc
 uss the craft of writing. The event is part of the Heyman Ce
 nter for the Humanities Writing Lives Series and the Columbi
 a School of the Arts Creative Writing Lecture series.
END:VEVENT
END:VCALENDAR