BEGIN:VCALENDAR
VERSION:2.0
PRODID:-//ExpressionEngine Easy iCalendar plugin//NONSGML v1.1.1//EN
BEGIN:VEVENT
UID:event
LOCATION:\, The Italian Academy for Advanced Studies
DTSTAMP:20210221T33600Z
DTSTART;TZID=America/New_York:20141020T181500
DTEND;TZID=America/New_York:
SUMMARY:The Palestinian Future After Gaza
DESCRIPTION:Professor Richard Falk will deliver the annual Edward W. Sai
 d Memorial Lecture. His talk will focus on the present real
 ity and future direction of the Palestinian struggle\, taking
  account of the continuing relevance of Edward Said's views 
 of the grounds of a sustainable peace and proceeding from hi
 s prophetic premise that the two-state approach should no lo
 nger becloud our judgment. This event is at capacity and we
  are no longer accepting registration. Doors will open at 5:
 15 p.m. and registered guests will be seated on a first-come
 \, first-served basis. At 6:15 pm\, any available seats will b
 e filled by Columbia faculty\, staff\, or students in the wait
 ing line who have a valid Columbia University photo ID. This
  event will be live-streamed on the Italian Academy webpage.
END:VEVENT
END:VCALENDAR