BEGIN:VCALENDAR
VERSION:2.0
PRODID:-//ExpressionEngine Easy iCalendar plugin//NONSGML v1.1.1//EN
BEGIN:VEVENT
UID:event
LOCATION:The Heyman Center\, Second Floor Common Room
DTSTAMP:20210221T33100Z
DTSTART;TZID=America/New_York:20141210T181500
DTEND;TZID=America/New_York:
SUMMARY:On Method: The Humanities in Full: Polemics Against the Two-
 Culture Fallacy
DESCRIPTION:If the recent diatribes against the digital humanities have 
 done anything\, they have demonstrated how truncated and ahis
 torical most of our conceptions of the humanities are. We ne
 ed a history and vision of the humanities capacious enough t
 o see them not as a particular method or set of disciplines 
 but as a disposition\, as a way of engaging the world. 
END:VEVENT
END:VCALENDAR