BEGIN:VCALENDAR
VERSION:2.0
PRODID:-//ExpressionEngine Easy iCalendar plugin//NONSGML v1.1.1//EN
BEGIN:VEVENT
UID:event
LOCATION:The Heyman Center\, Second Floor Common Room
DTSTAMP:20210221T33600Z
DTSTART;TZID=America/New_York:20141010T90000
DTEND;TZID=America/New_York:20141010T180000
SUMMARY:Development and Underdevelopment in Postwar Europe
DESCRIPTION:The economic aftermath of World War II in Europe is normally
  studied through the lens of reconstruction. However\, many c
 ontemporaries saw “backwardness” as the main social and 
 economic issue in several European regions.
END:VEVENT
END:VCALENDAR