BEGIN:VCALENDAR
VERSION:2.0
PRODID:-//ExpressionEngine Easy iCalendar plugin//NONSGML v1.1.1//EN
BEGIN:VEVENT
UID:event
LOCATION:East Gallery\, Buell Hall (Maison Francaise)
DTSTAMP:20210221T32900Z
DTSTART;TZID=America/New_York:20140923T191500
DTEND;TZID=America/New_York:
SUMMARY:An Evening with Novelist Téa Obreht
DESCRIPTION:As part of The Writing Lives Series\, the Heyman Center welco
 mes Téa Obreht\, author of the bestseller The Tiger's Wife. 
 Obreht will read from her work and be in conversation with M
 ark Mazower\, Director of the Heyman Center.
END:VEVENT
END:VCALENDAR