BEGIN:VCALENDAR
VERSION:2.0
PRODID:-//ExpressionEngine Easy iCalendar plugin//NONSGML v1.1.1//EN
BEGIN:VEVENT
UID:event
LOCATION:The Heyman Center\, Second Floor Common Room
DTSTAMP:20210221T33900Z
DTSTART;TZID=America/New_York:20141105T181500
DTEND;TZID=America/New_York:
SUMMARY:Is Evil Still a Meaningful Concept Today?
DESCRIPTION:Simona Forti will discuss her work and her new book\, The New
  Demons. Rethinking Evil and Power Today\, published by Stanf
 ord University Press. She will be in conversation with Adria
 na Cavarero\, Professor of Political Philosophy at the Univer
 sità degli studi di Verona.
END:VEVENT
END:VCALENDAR