BEGIN:VCALENDAR
VERSION:2.0
PRODID:-//ExpressionEngine Easy iCalendar plugin//NONSGML v1.1.1//EN
BEGIN:VEVENT
UID:event
LOCATION:The Heyman Center\, Second Floor Common Room
DTSTAMP:20210221T33800Z
DTSTART;TZID=America/New_York:20141106T160000
DTEND;TZID=America/New_York:
SUMMARY:Life Outsourced: Globalization and Transnational Surrogacy i
 n India
DESCRIPTION:Shamita Das Dasgupta and Sayantani Dasgupta will discuss the
  increasingly commercial practice of transnational surrogacy
 \, with a particular focus on India. Filmmaker and producer 
 Vaishali Sinha will show clips from her film "Made in India.
 "
END:VEVENT
END:VCALENDAR