BEGIN:VCALENDAR
VERSION:2.0
PRODID:-//ExpressionEngine Easy iCalendar plugin//NONSGML v1.1.1//EN
BEGIN:VEVENT
UID:event
LOCATION:The Schapiro Center\, Davis Auditorium
DTSTAMP:20210221T33300Z
DTSTART;TZID=America/New_York:20141001T181500
DTEND;TZID=America/New_York:
SUMMARY:The Learning Society
DESCRIPTION:It has long been recognized that an improved standard of liv
 ing results from advances in technology\, not from the accumu
 lation of capital. It has also become clear that what truly 
 separates developed from less-developed countries is not jus
 t a gap in resources or output but a gap in knowledge. In fa
 ct\, the pace at which developing countries grow is largely a
  function of the pace at which they close that gap.
END:VEVENT
END:VCALENDAR