BEGIN:VCALENDAR
VERSION:2.0
PRODID:-//ExpressionEngine Easy iCalendar plugin//NONSGML v1.1.1//EN
BEGIN:VEVENT
UID:event
LOCATION:The Heyman Center\, Second Floor Common Room
DTSTAMP:20210221T32700Z
DTSTART;TZID=America/New_York:20141117T181500
DTEND;TZID=America/New_York:
SUMMARY:A Roundtable on The History Manifesto: The Role of History a
 nd the Humanities in a Digital Age
DESCRIPTION:Leading historians David Armitage and Jo Guldi\, authors of T
 he History Manifesto\, identify a recent shift back to longer
 -term narratives\, following many decades of increasing speci
 alization\, which they argue is vital for the future of histo
 rical scholarship and how it is communicated. The authors' w
 ork makes an important intervention in the debate about the 
 role of history and the humanities in a digital age.
END:VEVENT
END:VCALENDAR