BEGIN:VCALENDAR
VERSION:2.0
PRODID:-//ExpressionEngine Easy iCalendar plugin//NONSGML v1.1.1//EN
BEGIN:VEVENT
UID:event
LOCATION:The Heyman Center\, Second Floor Common Room
DTSTAMP:20210221T33100Z
DTSTART;TZID=America/New_York:20141118T181500
DTEND;TZID=America/New_York:
SUMMARY:Great Exploitations: History and the NSA Debate
DESCRIPTION:We cannot understand the programs revealed by Edward Snowden
  and other whistleblowers without understanding a broader se
 t of historical developments before and after 9/11. With the
  growing spread of computation into everyday transactions fr
 om the 1960s into the 1990s\, corporations and governments co
 llected exponentially more information about consumers and c
 itizens.
END:VEVENT
END:VCALENDAR