BEGIN:VCALENDAR
VERSION:2.0
PRODID:-//ExpressionEngine Easy iCalendar plugin//NONSGML v1.1.1//EN
BEGIN:VEVENT
UID:event
LOCATION:The Heyman Center\, Second Floor Common Room
DTSTAMP:20210221T33300Z
DTSTART;TZID=America/New_York:20141111T181500
DTEND;TZID=America/New_York:
SUMMARY:The Justice Forum: Reimagining Justice: Narratives of Inclus
 ion
DESCRIPTION:How do we change the current criminal justice system\, one de
 fined by mass incarceration\, a paradigm of punishment\, and r
 acial discrimination? Changing how we achieve justice throug
 h policing\, courts\, jails\, prisons and reentry must include 
 changing the public narrative about people who become involv
 ed with the criminal justice system.
END:VEVENT
END:VCALENDAR