BEGIN:VCALENDAR
VERSION:2.0
PRODID:-//ExpressionEngine Easy iCalendar plugin//NONSGML v1.1.1//EN
BEGIN:VEVENT
UID:event
LOCATION:Jerome Greene Hall (Law School)\, Room 104
DTSTAMP:20210221T33000Z
DTSTART;TZID=America/New_York:20141203T183000
DTEND;TZID=America/New_York:
SUMMARY:The Justice Forum: Paradigms for Justice: Beyond Punishment
DESCRIPTION:There is a growing consensus across the country about the de
 vastating consequences of mass incarceration and criminal ju
 stice policy. Increasingly\, scholars\, clinicians\, educators\,
  politicians and activists are examining the ways in which p
 unishment is used in many facets of our society including sc
 hools\, courts\, jails and prisons. Many have found that the u
 se of punishment as the core of the criminal justice system 
 is more damaging than useful. This roundtable brings togethe
 r scholars\, educators\, clinicians\, activists and community m
 embers to critically examine the utility of punishment in ou
 r society and discuss alternative approaches to justice\, acc
 ountability and safety.
END:VEVENT
END:VCALENDAR