BEGIN:VCALENDAR
VERSION:2.0
PRODID:-//ExpressionEngine Easy iCalendar plugin//NONSGML v1.1.1//EN
BEGIN:VEVENT
UID:event
LOCATION:The Heyman Center\, Second Floor Common Room
DTSTAMP:20210221T32800Z
DTSTART;TZID=America/New_York:20141008T133000
DTEND;TZID=America/New_York:
SUMMARY:Rethinking Knowledge: Global Governance
DESCRIPTION:Rethinking Knowledge: Global Governance will address the pas
 t\, present\, and future of attempts to "govern the world" (Ma
 rk Mazower) from a variety of perspectives and at a number o
 f scales. From taking stock of past and present efforts\, to 
 examining the assumptions built into the very premise\, to sp
 eculating on the necessary reconfiguration of academic disci
 plines\, this Think-In aims at a free flowing exchange in whi
 ch the contours of the problem are sketched and possible mod
 els are tested.
END:VEVENT
END:VCALENDAR