BEGIN:VCALENDAR
VERSION:2.0
PRODID:-//ExpressionEngine Easy iCalendar plugin//NONSGML v1.1.1//EN
BEGIN:VEVENT
UID:event
LOCATION:Miller Theatre
DTSTAMP:20210221T33600Z
DTSTART;TZID=America/New_York:20141120T183000
DTEND;TZID=America/New_York:20141120T213000
SUMMARY:Bryonn Bain: “Lyrics From Lockdown”
DESCRIPTION:One man. One mic. 40 characters. Two unbelieveable true stor
 ies of wrongful imprisonment. Written and performed by Bryo
 nn Bain.\n\nTickets for this event have sold out.
END:VEVENT
END:VCALENDAR